BEGIN:VCALENDAR
VERSION:2.0
PRODID:-//jEvents 2.0 for Joomla//EN
CALSCALE:GREGORIAN
METHOD:PUBLISH
BEGIN:VTIMEZONE
TZID:Europe/Berlin
BEGIN:STANDARD
DTSTART:20201025T020000
RDATE:20210328T030000
TZOFFSETFROM:+0200
TZOFFSETTO:+0100
TZNAME:Europe/Berlin CET
END:STANDARD
BEGIN:STANDARD
DTSTART:20211031T020000
RDATE:20220327T030000
TZOFFSETFROM:+0200
TZOFFSETTO:+0100
TZNAME:Europe/Berlin CET
END:STANDARD
BEGIN:STANDARD
DTSTART:20221030T020000
RDATE:20230326T030000
TZOFFSETFROM:+0200
TZOFFSETTO:+0100
TZNAME:Europe/Berlin CET
END:STANDARD
BEGIN:STANDARD
DTSTART:20231029T020000
RDATE:20240331T030000
TZOFFSETFROM:+0200
TZOFFSETTO:+0100
TZNAME:Europe/Berlin CET
END:STANDARD
BEGIN:STANDARD
DTSTART:20241027T020000
RDATE:20250330T030000
TZOFFSETFROM:+0200
TZOFFSETTO:+0100
TZNAME:Europe/Berlin CET
END:STANDARD
BEGIN:STANDARD
DTSTART:20251026T020000
RDATE:20260329T030000
TZOFFSETFROM:+0200
TZOFFSETTO:+0100
TZNAME:Europe/Berlin CET
END:STANDARD
BEGIN:STANDARD
DTSTART:20261025T020000
RDATE:20270328T030000
TZOFFSETFROM:+0200
TZOFFSETTO:+0100
TZNAME:Europe/Berlin CET
END:STANDARD
BEGIN:STANDARD
DTSTART:20271031T020000
RDATE:20280326T030000
TZOFFSETFROM:+0200
TZOFFSETTO:+0100
TZNAME:Europe/Berlin CET
END:STANDARD
BEGIN:STANDARD
DTSTART:20281029T020000
RDATE:20290325T030000
TZOFFSETFROM:+0200
TZOFFSETTO:+0100
TZNAME:Europe/Berlin CET
END:STANDARD
BEGIN:STANDARD
DTSTART:20291028T020000
RDATE:20300331T030000
TZOFFSETFROM:+0200
TZOFFSETTO:+0100
TZNAME:Europe/Berlin CET
END:STANDARD
BEGIN:STANDARD
DTSTART:20301027T020000
RDATE:20310330T030000
TZOFFSETFROM:+0200
TZOFFSETTO:+0100
TZNAME:Europe/Berlin CET
END:STANDARD
BEGIN:STANDARD
DTSTART:20311026T020000
RDATE:20320328T030000
TZOFFSETFROM:+0200
TZOFFSETTO:+0100
TZNAME:Europe/Berlin CET
END:STANDARD
BEGIN:DAYLIGHT
DTSTART:20201007T190000
RDATE:20201025T020000
TZOFFSETFROM:+0100
TZOFFSETTO:+0200
TZNAME:Europe/Berlin CEST
END:DAYLIGHT
BEGIN:DAYLIGHT
DTSTART:20210328T030000
RDATE:20211031T020000
TZOFFSETFROM:+0100
TZOFFSETTO:+0200
TZNAME:Europe/Berlin CEST
END:DAYLIGHT
BEGIN:DAYLIGHT
DTSTART:20220327T030000
RDATE:20221030T020000
TZOFFSETFROM:+0100
TZOFFSETTO:+0200
TZNAME:Europe/Berlin CEST
END:DAYLIGHT
BEGIN:DAYLIGHT
DTSTART:20230326T030000
RDATE:20231029T020000
TZOFFSETFROM:+0100
TZOFFSETTO:+0200
TZNAME:Europe/Berlin CEST
END:DAYLIGHT
BEGIN:DAYLIGHT
DTSTART:20240331T030000
RDATE:20241027T020000
TZOFFSETFROM:+0100
TZOFFSETTO:+0200
TZNAME:Europe/Berlin CEST
END:DAYLIGHT
BEGIN:DAYLIGHT
DTSTART:20250330T030000
RDATE:20251026T020000
TZOFFSETFROM:+0100
TZOFFSETTO:+0200
TZNAME:Europe/Berlin CEST
END:DAYLIGHT
BEGIN:DAYLIGHT
DTSTART:20260329T030000
RDATE:20261025T020000
TZOFFSETFROM:+0100
TZOFFSETTO:+0200
TZNAME:Europe/Berlin CEST
END:DAYLIGHT
BEGIN:DAYLIGHT
DTSTART:20270328T030000
RDATE:20271031T020000
TZOFFSETFROM:+0100
TZOFFSETTO:+0200
TZNAME:Europe/Berlin CEST
END:DAYLIGHT
BEGIN:DAYLIGHT
DTSTART:20280326T030000
RDATE:20281029T020000
TZOFFSETFROM:+0100
TZOFFSETTO:+0200
TZNAME:Europe/Berlin CEST
END:DAYLIGHT
BEGIN:DAYLIGHT
DTSTART:20290325T030000
RDATE:20291028T020000
TZOFFSETFROM:+0100
TZOFFSETTO:+0200
TZNAME:Europe/Berlin CEST
END:DAYLIGHT
BEGIN:DAYLIGHT
DTSTART:20300331T030000
RDATE:20301027T020000
TZOFFSETFROM:+0100
TZOFFSETTO:+0200
TZNAME:Europe/Berlin CEST
END:DAYLIGHT
BEGIN:DAYLIGHT
DTSTART:20310330T030000
RDATE:20311026T020000
TZOFFSETFROM:+0100
TZOFFSETTO:+0200
TZNAME:Europe/Berlin CEST
END:DAYLIGHT
END:VTIMEZONE
BEGIN:VEVENT
UID:45aff2f8bcfeab64cf0c9df5a79d1e9b
CATEGORIES:Pokalschießen
CREATED:20210911T090854
SUMMARY:Bezirkstagung
LOCATION:35579 Wetzlar-Steindorf\, Bürgerhaus Tannenhof 
DESCRIPTION:Die Bezirkstagung wird am Freitag, den 8.Oktober 2022, 19 Uhr in 35579 Wetz
 lar-Steindorf, Bürgerhaus Tannenhof (Schulstraße, gegenüber Friedhof) ausge
 richtet.\nAls ein wichtiger Punkt steht die Wahl des Bezirksvorstandes auf 
 der Tagesordnung.\n \nAuch möchten wir in diesem Jahr das erste Mal Ehrenna
 deln (Konzept liegt bei) des Bezirks ausgeben. Meldet daher bitte, bis zum 
 1. Oktober, aus euren Vereinen verdiente Personen. Wir würden uns sehr freu
 en, wenn wir 10 verdiente Schützinnen bzw. Schützen ehren dürften.\n \nAls 
 Ergänzung und Auffrischung ist noch einmal das Protokoll der letzten Bezirk
 stagungbeigefügt. (siehe Link)\n
X-ALT-DESC;FMTTYPE=text/html:<p>Die Bezirkstagung wird am <strong>Freitag, den 8.Oktober 2022, 19 Uhr in
  35579 Wetzlar-Steindorf, Bürgerhaus Tannenhof (Schulstraße, gegenüber Frie
 dhof)</strong> ausgerichtet.</p><p>Als ein wichtiger Punkt steht die <stron
 g>Wahl des Bezirksvorstandes</strong> auf der Tagesordnung.</p><p> </p><p>A
 uch möchten wir in diesem Jahr das erste Mal Ehrennadeln (<em>Konzept liegt
  bei</em>) des Bezirks ausgeben. Meldet daher bitte, bis zum 1. Oktober, au
 s euren Vereinen verdiente Personen. Wir würden uns sehr freuen, wenn wir 1
 0 verdiente Schützinnen bzw. Schützen ehren dürften.</p><p> </p><p>Als Ergä
 nzung und Auffrischung ist noch einmal das <em>Protokoll der letzten Bezirk
 stagung</em>beigefügt. (siehe Link)</p>
CONTACT:https://www.sb21lahndill.de/8-news/216-einladung-zur-bezirkstagung-des-sb-21-lahn-dill-8-10-2021-in-wz-steindorf
X-EXTRAINFO: 
DTSTAMP:20260420T061551
DTSTART;TZID=Europe/Berlin:20211008T190000
SEQUENCE:0
TRANSP:OPAQUE
END:VEVENT
END:VCALENDAR